BEGIN:VCALENDAR
VERSION:2.0
PRODID:-//RITE ACADEMY - ECPv6.15.20//NONSGML v1.0//EN
CALSCALE:GREGORIAN
METHOD:PUBLISH
X-ORIGINAL-URL:https://riteacademy.com
X-WR-CALDESC:Events for RITE ACADEMY
REFRESH-INTERVAL;VALUE=DURATION:PT1H
X-Robots-Tag:noindex
X-PUBLISHED-TTL:PT1H
BEGIN:VTIMEZONE
TZID:UTC
BEGIN:STANDARD
TZOFFSETFROM:+0000
TZOFFSETTO:+0000
TZNAME:UTC
DTSTART:20180101T000000
END:STANDARD
END:VTIMEZONE
BEGIN:VEVENT
DTSTART;VALUE=DATE:20191212
DTEND;VALUE=DATE:20191213
DTSTAMP:20260421T150125
CREATED:20190713T001929Z
LAST-MODIFIED:20190713T122601Z
UID:10000135-1576108800-1576195199@riteacademy.com
SUMMARY:RITE LEADERSHIP for Iowa State University Police: DEC 12\, 2019 (Ames\, IA)
DESCRIPTION:  \nPRIVATE Training: Iowa State University Police Leaders (Invite only)\n\n\nRITE Emotional & Social Intelligence Leadership Training for Iowa State University Police LEADERS\, will be conducted  December 12\, 2019. This training is by invitation only. Contact information below. \n  \nIowa State University Police\n\nThe Iowa State University Police Department is the official law enforcement authority for the university. More than 40 fully certified\, sworn police officers and dispatchers provide a variety of services to the community 24 hours a day\, seven days a week. \n\nThe ISU Police Department is a professional\, nationally recognized police agency. Iowa State University police officers receive the same training and certification as officers at other police units throughout the state. Through our community-oriented policing services\, you will often engage with us through outreach opportunities. Our top priority is the safety of our students\, faculty\, staff\, and visitors to Iowa State. \n  \nCBS News interviews Georgia Police Chief…\n “Here’s how RITE Training has benefited our Officers and our Community”\n\n  \n  \nRITE Leadership Training\nTeaching critical components of both Emotional Intelligence (EI) and Social Intelligence (SI)\, improves resiliency awareness\, as well as personal and professional relationships. \n\nEmotional Intelligence is being aware of our emotions\, and to acknowledge that emotions can drive behavior that impacts others (positively and negatively). Social Intelligence is how we effectively navigate and negotiate all social relationships and situations. \n\nRITE Tools\, like the Emotional Energy Ladder (in this photo)\, makes us aware of our emotions\, how we affect others\, and that only we have the power to make those changes. \n  \nAnger\, Hate\, and Blame\, lives at the bottom of the Ladder. Although we all can feel those emotions during our day\, learning how to control them\, is key to great leadership. Bias-free engagement\, lives at the top of the Ladder with Love\, Gratitude\, Joy\, and Confidence. \n  \nA safe workplace\, free of all types of harassment starts with doing the RITE thing\, and helping others do the same. Improved communication starts here. \n\n\n\nRacial Intelligence is: “The practice of using Emotional Intelligence (EI)\, Social Intelligence (SI) and the RITE Tools to treat ourselves and others fairly.” \n\n\n  \nRITE Professional Workplace Training\nOur Professional Workplace Training is nationally recognized in creating a bias-free\, harassment-free workplace. Our approach is unique and the training is actually fun and engaging\, while reinforcing company values of having a professional workplace culture not just for some\, but for all employees. \nEach class includes Emotional Intelligence Tools everyone will learn from\, and use in class with each other. These are designed to share with loved ones at home\, and at work well after we are gone. \n  \nWorkplace Culture Breakdowns include: \n\nUnprofessional Behavior\nElements of Entitlement\nMental Looping and Negative Banter\nImplicit Bias and Hot Buttons\nRumors and Gossip\n\n  \n\nRITE helps to reinforce the company culture of treating everyone fairly\, in a professional manner. Learning to Value others\, is key to building a professional workplace culture\, that will be passed on for years to come. \n\n  \n\n			\n				\n			\n			\n				\n			\n			\n				\n			\n			\n				\n			\n		\n\n  \nRITE in the Media: \nTEDx on RITE – Use of Voice not Force by Sgt Jones\nCBS 8 Selma\, Alabama DOC – the missing link to officer training\nFox 19 News – Middletown officers train in Racial Intelligence \nLINK to more Media\n  \nRITE Articles: \nPolicing is affected by Officer Implicit Issues – Article Link\n6 Signs a Bully is causing your Workplace Harassment Issues Article Link\nProfessional Workplace Culture is Reducing Police Misconduct – Article Link \nLINK to all Articles\n  \nTraining Site:\nReiman Gardens\n1407 University Blvd.\nAmes\, IA 50011 \n  \nContact: Deputy Chief\, Carrie Jacobs\nIowa State University Police\n2519 Osborn Drive\nAmes\, Iowa 50011\ncljacobs@iastate.edu \n \n 
URL:https://riteacademy.com/event/rite-leadership-for-iowa-state-university-police-dec-12-2019-ames-ia/
LOCATION:Reiman Gardens\, 1407 University Blvd.\, Ames\, FL\, 50011\, United States
CATEGORIES:EVENTS,RITE Leadership Training
ATTACH;FMTTYPE=image/png:https://riteacademy.com/wp-content/uploads/2019/07/Screen-Shot-2019-07-13-at-7.58.35-AM.png
ORGANIZER;CN="RITE Academy":MAILTO:training@riteacademy.com
GEO:42.0106058;-93.6385732
X-APPLE-STRUCTURED-LOCATION;VALUE=URI;X-ADDRESS=Reiman Gardens 1407 University Blvd. Ames FL 50011 United States;X-APPLE-RADIUS=500;X-TITLE=1407 University Blvd.:geo:-93.6385732,42.0106058
END:VEVENT
END:VCALENDAR