BEGIN:VCALENDAR
VERSION:2.0
PRODID:-//RITE ACADEMY - ECPv6.15.20//NONSGML v1.0//EN
CALSCALE:GREGORIAN
METHOD:PUBLISH
X-ORIGINAL-URL:https://riteacademy.com
X-WR-CALDESC:Events for RITE ACADEMY
REFRESH-INTERVAL;VALUE=DURATION:PT1H
X-Robots-Tag:noindex
X-PUBLISHED-TTL:PT1H
BEGIN:VTIMEZONE
TZID:UTC
BEGIN:STANDARD
TZOFFSETFROM:+0000
TZOFFSETTO:+0000
TZNAME:UTC
DTSTART:20200101T000000
END:STANDARD
END:VTIMEZONE
BEGIN:VEVENT
DTSTART;VALUE=DATE:20210415
DTEND;VALUE=DATE:20210417
DTSTAMP:20260418T204526
CREATED:20210207T220700Z
LAST-MODIFIED:20210408T183147Z
UID:10000109-1618444800-1618617599@riteacademy.com
SUMMARY:Racial Intelligence OFFICERS Class @PPD APR 15-16\, 2021 (Pflugerville\, TX)
DESCRIPTION:RITE Half-Day Officers Class \nRITE’s Professional Workplace Training is nationally recognized in encouraging a bias-free workplace. Our classes include a unique combination of emotional intelligence skill-building\, that includes years of research to give your employees a sole-source experience that can not be duplicated. \nRITE Academy is pleased to provide Professional Workplace Leadership Training for Pflugerville Police Department. Half-day classes of this Training will be conducted April 15-16\, 2021\, and is by invitation only. \n  \nRacial Equity Expands Fairness and Justice to All \n\nRITE’s Train-the-Trainer is nationally recognized in encouraging a bias-free workplace\, that includes racial equity inside and outside the agency. Our classes include a combination of emotional and social intelligence skill-building with unique accountability Tools. Years of research along with hands-on training\, give your employees a sole-source experience that is unmatched. \n \n  \n  \n“Policing cannot be done the same way we did in the 1980’s. In order to build racial equity that includes fairness and justice\, we need to change how we do things\, from leadership on down.” ~ Linda Webb \nRead the article on Racial Equity HERE \n  \n\n “RITE Training benefits our Officers and our Community”\n \n  \nWhy is RITE Training needed in Public Service?\nRITE’s critical components of both Emotional Intelligence (EI) and Social Intelligence (SI)\, helps all in public service\, improve communication on many levels. These classes help to improve resiliency awareness\, as well as personal and professional relationships. \n\nEmotional Intelligence is being aware of our emotions\, and to acknowledge that emotions can drive behavior that impacts others (positively and negatively). Social Intelligence is how we effectively navigate and negotiate all social relationships and situations. \n\nRITE Tools\, like the Emotional Energy Ladder (in this photo)\, makes us aware of our emotions\, how we affect others\, and that only we have the power to make those changes. \n  \nAnger\, Hate\, and Blame\, lives at the bottom of the RITE Ladder. Although we all can feel those emotions during our day\, learning how to control them\, is key to great leadership. Bias-free engagement\, lives at the top of the Ladder with Love\, Gratitude\, Joy\, and Confidence. \n  \nA safe workplace\, free of all types of harassment starts with doing the RITE thing\, and helping others do the same. Improved communication starts here. \n\n\n\nRacial Intelligence is: “The practice of using Emotional Intelligence (EI)\, Social Intelligence (SI) and the RITE Tools (RI)\, to treat ourselves and others fairly.” \n\n\n  \nRITE Professional Workplace Training\nTeaching components that reinforce your company’s values of having a professional bias-free workplace culture for all employees is our goal. Each class includes Emotional Intelligence Tools your employees learn from and use in class with each other\, and well after we are gone. \n  \nWorkplace Culture Breakdowns include: \n\nUnprofessional Behavior\nElements of Entitlement\nMental Looping and Negative Banter\nImplicit Bias and Hot Buttons\nRumors and Gossip\nUnprofessional Social Media Posting\n\n  \n\nRITE helps to reinforce the company culture of treating everyone fairly\, in a professional manner. Learning to Value others\, is key to building a professional workplace culture\, that will be passed on for years to come. \n\n  \n\n			\n				\n			\n			\n				\n			\n			\n				\n			\n			\n				\n			\n		\n\n  \nRITE in the Media:\n\n  \n\nRITE Articles: \nPolicing is affected by Officer Implicit Issues – Article Link\n6 Signs a Bully is causing your Workplace Harassment Issues Article Link\nProfessional Workplace Culture is Reducing Police Misconduct – Article Link \n \n  \n  \n\nHalf-Day Classes:\n  \n\n\nAM Session \n7:45             Sign-in Registration\n8:00 – 12:00 pm     Morning session \n\n\nPM Session \n12:45             Sign-in Registration\n1:00 – 5:00 pm      Afternoon session \n\n\n  \nTraining Location\nPflugerville Police Department\n1611 Pfennig Lane\nPflugerville\, TX 78660 \n\n  \nContact and Registration\n\n\n\nJason O’Malley\nCommander\nPflugerville Police Department\n512-990-6707 \njomalley@pflugervilletx.gov\n\n\n\n\n\n\n\n\n \n\nMISSION\nIt is the Mission of the Pflugerville Police Department to actively engage our community by inspiring trust and respect to keep those we serve safe. \nLead with a servant’s heart\, embrace our diverse community in partnerships and become ONE. Read more… \n 
URL:https://riteacademy.com/event/racial-intelligence-officers-class-pflugerville-police-dept-apr-15-16-2021-pflugerville-tx/
LOCATION:Pflugerville Police Department\, 1611 Pfennig Lane\, Pflugerville\, TX\, 78660\, United States
CATEGORIES:EVENTS,Professional Workplace Culture,RITE LE PSP Course
ATTACH;FMTTYPE=image/jpeg:https://riteacademy.com/wp-content/uploads/2021/02/Pflugerville-police_car.jpeg
ORGANIZER;CN="RITE Academy":MAILTO:training@riteacademy.com
GEO:30.4514917;-97.6078307
X-APPLE-STRUCTURED-LOCATION;VALUE=URI;X-ADDRESS=Pflugerville Police Department 1611 Pfennig Lane Pflugerville TX 78660 United States;X-APPLE-RADIUS=500;X-TITLE=1611 Pfennig Lane:geo:-97.6078307,30.4514917
END:VEVENT
BEGIN:VEVENT
DTSTART;VALUE=DATE:20210414
DTEND;VALUE=DATE:20210415
DTSTAMP:20260418T204526
CREATED:20210207T215256Z
LAST-MODIFIED:20210408T183734Z
UID:10000108-1618358400-1618444799@riteacademy.com
SUMMARY:Racial Intelligence LEADERS Class @PPD APR 14\, 2021 (Pflugerville\, TX)
DESCRIPTION:This invitation-only RITE Leadership Class is being offered in partnership with the Pflugerville Police Department to select police departments in the region\nRITE Academy is pleased to provide Racial Intelligence with an improved Professional Workplace. This training is for Pflugerville Police Department Leaders on April 14\, 2021. Contact registration\, and location information are below. \nRacial Equity Expands Fairness and Justice to All \n\nRITE classes are nationally recognized in encouraging a bias-free workplace\, that includes racial equity inside and outside the agency. Our classes include a combination of emotional and social intelligence skill-building with unique accountability Tools. Years of research along with hands-on training\, give your employees a sole-source experience that is unmatched. \n \n  \n  \n“Training cannot be done the same way we did in the 1980’s. In order to build racial equity that includes fairness and justice\, we need to change how we do things\, from leadership on down.” ~ Linda Webb \nRead the article on Racial Equity HERE \n  \n\n “RITE Training benefits ALL (Fire\, Police\, Corrections) in Public Service”\n \n\nWhy RITE Training works for ALL in Public Service\nRITE’s critical components of both Emotional Intelligence (EI) and Social Intelligence (SI)\, helps all in public service\, improve communication on many levels. These classes help to improve resiliency awareness\, as well as personal and professional relationships. \n\nEmotional Intelligence is being aware of our emotions\, and to acknowledge that emotions can drive behavior that impacts others (positively and negatively). Social Intelligence is how we effectively navigate and negotiate all social relationships and situations. \n\nRITE Tools\, like the Emotional Energy Ladder (in this photo)\, makes us aware of our emotions\, how we affect others\, and that only we have the power to make those changes. \n  \nAnger\, Hate\, and Blame\, lives at the bottom of the RITE Ladder. Although we all can feel those emotions during our day\, learning how to control them\, is key to great leadership. Bias-free engagement\, lives at the top of the Ladder with Love\, Gratitude\, Joy\, and Confidence. \n  \nA safe workplace\, free of all types of harassment starts with doing the RITE thing\, and helping others do the same. Improved communication starts here. \n\n\n\nRacial Intelligence is: “The practice of using Emotional Intelligence (EI)\, Social Intelligence (SI) and the RITE Tools (RI)\, to treat ourselves and others fairly.” \n\n\n  \nRITE Professional Workplace Training\nTeaching components that reinforce your company’s values of having a professional bias-free workplace culture for all employees is our goal. Each class includes Emotional Intelligence Tools your employees learn from and use in class with each other\, and well after we are gone. \n  \nWorkplace Culture Breakdowns include: \n\nUnprofessional Behavior\nElements of Entitlement\nMental Looping and Negative Banter\nImplicit Bias and Hot Buttons\nRumors and Gossip\nUnprofessional Social Media Posting\n\n\n			\n				\n			\n			\n				\n			\n			\n				\n			\n			\n				\n			\n		\n\n\nRITE helps reinforce the company culture of treating everyone fairly\, in a professional manner. Learning to Value others\, is key to building a professional workplace\, that will be passed on for years to come. \n\n  \n  \nRITE in the Media: \n\nRITE Articles to Learn from and Share: \nDuty to Intervene during Block-out – Article Link\n6 Signs a Bully is causing your Workplace Harassment Issues Article Link\nProfessional Workplace Culture is Reducing Officer Misconduct – Article Link \n \n  \n\nDaily Agenda:\n7:45             Registration and Coffee\n8:00 – 11:50 am     Morning session\n12:00 – 1:00 pm     Lunch Break\n1:00 – 4:00 pm      Afternoon session \n  \n\nTraining Location\n\n\nPfluger Hall\nPflugerville\, TX 78660\n\n\n  \nContact and Registration\n\n\n\n\nJason O’Malley\nCommander\nPflugerville Police Department\n512-990-6707 \njomalley@pflugervilletx.gov\n\n\n\n\n\n\n\n\n \n\nMISSION\nIt is the Mission of the Pflugerville Police Department to actively engage our community by inspiring trust and respect to keep those we serve safe. \nLead with a servant’s heart\, embrace our diverse community in partnerships and become ONE. Read more… \n 
URL:https://riteacademy.com/event/racial-intelligence-leaders-class-pflugerville-police-dept-apr-14-2021-pflugerville-tx/
LOCATION:Pflugerville Police Department\, 1611 Pfennig Lane\, Pflugerville\, TX\, 78660\, United States
CATEGORIES:EVENTS,Professional Workplace Culture,RITE Leadership Training
ATTACH;FMTTYPE=image/jpeg:https://riteacademy.com/wp-content/uploads/2021/02/Pflugerville-police_car.jpeg
ORGANIZER;CN="RITE Academy":MAILTO:training@riteacademy.com
GEO:30.4514917;-97.6078307
X-APPLE-STRUCTURED-LOCATION;VALUE=URI;X-ADDRESS=Pflugerville Police Department 1611 Pfennig Lane Pflugerville TX 78660 United States;X-APPLE-RADIUS=500;X-TITLE=1611 Pfennig Lane:geo:-97.6078307,30.4514917
END:VEVENT
END:VCALENDAR