BEGIN:VCALENDAR
VERSION:2.0
PRODID:-//RITE ACADEMY - ECPv6.15.20//NONSGML v1.0//EN
CALSCALE:GREGORIAN
METHOD:PUBLISH
X-WR-CALNAME:RITE ACADEMY
X-ORIGINAL-URL:https://riteacademy.com
X-WR-CALDESC:Events for RITE ACADEMY
REFRESH-INTERVAL;VALUE=DURATION:PT1H
X-Robots-Tag:noindex
X-PUBLISHED-TTL:PT1H
BEGIN:VTIMEZONE
TZID:UTC
BEGIN:STANDARD
TZOFFSETFROM:+0000
TZOFFSETTO:+0000
TZNAME:UTC
DTSTART:20150101T000000
END:STANDARD
END:VTIMEZONE
BEGIN:VEVENT
DTSTART;TZID=UTC:20161102T080000
DTEND;TZID=UTC:20161102T150000
DTSTAMP:20260421T120338
CREATED:20160920T012909Z
LAST-MODIFIED:20161018T213901Z
UID:10000041-1478073600-1478098800@riteacademy.com
SUMMARY:RITE Leaders & Supervisors Course - NOV 2\, 2016 Marshall University (Huntington\, WV)
DESCRIPTION:This Leaders & Supervisors Course is a 6-hour training for leaders\, supervisors\, managers\, and officers working in police\, city\, and corrections departments. Participants will learn how to implement the (6) Emotional Intelligence (EI) and Social  Intelligence (SI) modules\, with the RITE tools\, into daily practice. The RITE model lays the groundwork to reinforcing positive employee engagement\, by building better communication inside and outside department walls. \nRacial Intelligence is: “The practice of using Emotional Intelligence (EI)\, Social Intelligence (SI)\, and the RITE Tools\, to treat ourselves and others fairly.” \nCOURSE OBJECTIVES & GOALS\nRITE Academy’s objective is to improve officer wellness\, increase departmental morale\, and build community trust. The goal is to increase awareness of one’s own emotions (EI)\, to improve situational and empathic awareness when engaging with others (SI)\, and to help De-escalate heightened situations whenever possible. RITE programs include de-escalation and resiliency awareness techniques\, that improve overall department relations\, recruitment and community policing. \nEmotional Intelligence (EI) and Social Intelligence (SI) training has been taught to corporate employees for years. RITE Academy has created this powerful training exclusively for public service professionals\, to enhance their career resiliency. \nWinning sports teams\, Fortune 500 companies\, and the best run Police\, Corrections\, and City Agencies know that great leadership drives success. Our leadership course provides you with the tools needed to successfully implement all facets of the RITE model\, EI+SI=RI\, for personal and professional growth. Department-wide Racial Intelligence\, starts at the top! \nGOAL: To learn to use Emotional and Social de-escalation and accountability Tools that improve officer and employee wellness\, enhance departmental morale and recruitment\, and develop community policing and trust. \nTraining Overview: \n\nEmotional Intelligence (EI) and Social Intelligence (SI) modules: Learning to Dis-engage and De-escalate\nDe-escalation communication – Avoid the Block-out Syndrome\nImprove Career resiliency – Climbing the RITE Emotional Energy Ladder\nUse of unique RITE Tools in Employees daily routine\nImproved officer wellness and performance\nBuilding the community trust level of engagement\nSupervising the Millennial Mindset\nSupervisor Challenges to subordinates\n\n\n\n\n  \nWho Should Attend? \nThis RITE LEADERSHIP Course is for upper management within Law Enforcement\, Highway patrol\, Corrections\, Fire\, and City Service. All public service professionals\, (including City and County\, Sworn and non-sworn personnel) would benefit greatly (personally and professionally) from this course. Class size is limited. Registration information below. \n\n\n\n  \nAll Participants receive: \n\nRITE Academy Racial Intelligence HandBook for Law Enforcement & Public Service Professionals\n(5) RITE Tools for continued work on Racial Intelligence\nIncludes a Cultural Diversity Action Plan- ready to share with the community\nRITE Advanced Cultural Diversity Media Campaign\nSOP – Cultural Diversity Accountability Standards\nRacial Intelligence Exam (Open Handbook test)\nRacial Intelligence Official Certification\n4 CE Credits (IADLEST Approved)\n\n\n  \nLocation Info: See below \n\nAgenda:\n\n\n8:00 – 8:30 am   Registration\n8:30 – 11:30 am  Morning session\n11:30 – 12:30 pm Lunch (on your own)\n12:30 – 3:30 pm   Afternoon session \n\n  \n\nCost: \n\n\n$324. for 1 or 2 from the same agency\n\n\n$249. for 3 or more from same agency\n–\nAll-inclusive fee includes the RITE Leadership Kit\, Intelligence Leadership HandBook\, materials\, hand-outs\, Certificate of completion\, community campaign\, trainer and classroom fees\, coffee and light breakfast\, water and refreshments.
URL:https://riteacademy.com/event/rite-leaders-supervisors-course-marshall-university-huntington-wv/
LOCATION:Marshall University\, DON MORRIS ROOM\, MEMORIAL STUDENT CENTER \, Huntington\, WV\, 25755  \, United States
CATEGORIES:EVENTS,RITE Leadership Training
ATTACH;FMTTYPE=image/jpeg:https://riteacademy.com/wp-content/uploads/2016/09/presidential-search.jpg
ORGANIZER;CN="RITE Academy":MAILTO:training@riteacademy.com
GEO:38.4235299;-82.4285538
X-APPLE-STRUCTURED-LOCATION;VALUE=URI;X-ADDRESS=Marshall University DON MORRIS ROOM MEMORIAL STUDENT CENTER  Huntington WV 25755   United States;X-APPLE-RADIUS=500;X-TITLE=DON MORRIS ROOM\, MEMORIAL STUDENT CENTER:geo:-82.4285538,38.4235299
END:VEVENT
END:VCALENDAR