BEGIN:VCALENDAR
VERSION:2.0
PRODID:-//RITE ACADEMY - ECPv6.15.20//NONSGML v1.0//EN
CALSCALE:GREGORIAN
METHOD:PUBLISH
X-ORIGINAL-URL:https://riteacademy.com
X-WR-CALDESC:Events for RITE ACADEMY
REFRESH-INTERVAL;VALUE=DURATION:PT1H
X-Robots-Tag:noindex
X-PUBLISHED-TTL:PT1H
BEGIN:VTIMEZONE
TZID:UTC
BEGIN:STANDARD
TZOFFSETFROM:+0000
TZOFFSETTO:+0000
TZNAME:UTC
DTSTART:20220101T000000
END:STANDARD
END:VTIMEZONE
BEGIN:VEVENT
DTSTART;VALUE=DATE:20230726
DTEND;VALUE=DATE:20230728
DTSTAMP:20260422T224457
CREATED:20230121T233428Z
LAST-MODIFIED:20230301T214350Z
UID:10000165-1690329600-1690502399@riteacademy.com
SUMMARY:RITE Academy for Police\, Fire\, DOC TRAINERS Texas)
DESCRIPTION:RITE’s Train-the-Trainer is nationally recognized in encouraging a bias-free workplace. Our classes include a unique combination of emotional intelligence skill-building\, that includes years of research to give your employees a sole-source experience that can not be duplicated. \n  \nRITE Academy is the ONLY Training Company that teaches Racial Equity with EI and SI for Police\, Fire\, Corrections\, and City employees \n \nAttention: Police\, Fire\, Corrections Leaders – Click ‘Private Events’ to Book this critical training for your Agency\n  \n  \n\n “RITE Training benefits ALL in Public Service”\n \n  \n \n  \nWith proven RESULTS that RITE Training decreases use of force\, Racial Intelligence combines Emotional Intelligence (EI) and Social Intelligence (SI)\, which has been successfully used in corporations for years. This helps your department develop a bias-free community. \n  \nDefinition of Racial Intelligence: “The practice of using Emotional Intelligence (EI)\, Social Intelligence (SI)\, and the RITE Tools\, to treat ourselves and others fairly.” Learn more about EI and SI… \n  \nHow does the RITE model work? \nRITE improves the officer’s communication skills (first)\, so they can engage more effectively with others.  Old cultural diversity training (teaching officers what they’re doing wrong) is ineffective in improving police-work. De-escalation techniques\, Implicit bias understanding while using EI\, empowers the officer with better\, more effective decision-making (for themselves and the department). Improved engagement and morale is noticed in the department\, and builds Community trust. \n  \nTrainers will learn the RITE 3-prong approach: \n\nOfficer Communication Skills: Emotional Intelligence Tools for Resiliency and De-escalation; to use personally and professionally\nImprove the Department: Social Intelligence helps with Bias-free policing\, Recruiting\, Improve morale\, and Accountability\nBuild the Community Relations: Bias-free policing will Enhance public trust\n\n  \nThe 2-Day Training Overview: \n\nEmotional Intelligence (EI) and Social Intelligence (SI) modules\nLearn how to control emotions in heightened and pressure situations\nImplicit and Explicit Bias\, Hot-Buttons\, and PTS-D\nBuild Racial Equity and Bias-Free Culture throughout the department\nProfessional workplace practices\nRITE model orientation in police academy recruit training\nLearn to avoid ‘Block-Out Syndrome’ on 95% of calls\nEmergency Response to Block Out (Step In\, Tap Out\, Take Over)\nDe-escalation Communication with Behavioral Self Control\nCertificate of license to teach RITE in agency\nAccredited by IADLEST\, highest standard of LE training\nLearn to use and teach all the RITE Tools – Required Tools for all students\, are the KEY to RITE Training and departmental accountability\nIncludes RITE Instructor Manual\, Trainer Tools\, Materials\, multiple Power Points\, Teaching aids\, RITE Instructor Certificate and More!\n\n*RITE suggests departments Register at least *(2) trainers for this class; Two are more effective in rolling it out and will give you the back-up trainer(s) if ever needed. \n  \n  \nRITE in the Media: \n\nRITE Articles to Learn from and Share: \nDuty to Intervene during Block-out – Article Link\nPolicing is affected by Officer Implicit Issues – Article Link\n6 Signs a Bully is causing your Workplace Harassment Issues Article Link\nProfessional Workplace Culture is Reducing Police Misconduct – Article Link \n  \n  \nWho can attend?\nThis is an OPEN Trainers class – REGISTRATION LINK Below:\n\nLaw Enforcement Trainers\nFire Department Trainers\nCorrections Trainers\n\n\n\n2-Day Agenda:\n7:45             Registration and Coffee\n8:00 – 11:50 am     Morning session\n12:00 – 1:00 pm     Lunch Break\n1:00 – 4:00 pm      Afternoon session \n  \n\n\n  \nContact info\n\n\n\nRandy Friedman\nDirector\, RITE Academy\n\n\n\ntraining@riteacademy.com\n\nOffice: 561-444-8704\n\n\n  \n \n  \n 
URL:https://riteacademy.com/event/rite-academy-for-police-fire-doc-trainers-jul-2023-texas/
CATEGORIES:EVENTS,RITE Train-the-trainer
ATTACH;FMTTYPE=image/png:https://riteacademy.com/wp-content/uploads/2021/12/texas-officer-training.png
ORGANIZER;CN="RITE Academy":MAILTO:training@riteacademy.com
END:VEVENT
END:VCALENDAR