BEGIN:VCALENDAR
VERSION:2.0
PRODID:-//RITE ACADEMY - ECPv6.15.20//NONSGML v1.0//EN
CALSCALE:GREGORIAN
METHOD:PUBLISH
X-ORIGINAL-URL:https://riteacademy.com
X-WR-CALDESC:Events for RITE ACADEMY
REFRESH-INTERVAL;VALUE=DURATION:PT1H
X-Robots-Tag:noindex
X-PUBLISHED-TTL:PT1H
BEGIN:VTIMEZONE
TZID:UTC
BEGIN:STANDARD
TZOFFSETFROM:+0000
TZOFFSETTO:+0000
TZNAME:UTC
DTSTART:20230101T000000
END:STANDARD
END:VTIMEZONE
BEGIN:VEVENT
DTSTART;TZID=UTC:20241028T000000
DTEND;TZID=UTC:20241029T235959
DTSTAMP:20260421T132449
CREATED:20211221T181824Z
LAST-MODIFIED:20240808T181607Z
UID:10000127-1730073600-1730246399@riteacademy.com
SUMMARY:Professional Workplace Emotional Response for Police\, Fire\, 911 LEADERS (Texas)
DESCRIPTION:Agency Equity Expands Fairness and Justice to All \n\nRITE classes are nationally recognized in encouraging a bias-free workplace\, that includes racial equity inside and outside the agency. Our classes include a combination of emotional and social intelligence skill-building\, ERT (Emotional Response Training) and unique accountability Tools. Years of research along with hands-on training\, give your employees a sole-source experience that is unmatched. \n \n  \n  \n“Training cannot be done the same way we did in the 1980’s. In order to build racial equity that includes fairness and justice\, we need to change how we do things\, from leadership on down.” ~ Linda Webb \nRead the article on Racial Equity HERE \n  \n\n “RITE Training benefits ALL (Fire\, Police\, Corrections) in Public Service”\n \nWhy RITE Training works for ALL in Public Service\nRITE’s critical components of both Emotional Intelligence (EI) and Social Intelligence (SI)\, helps all in public service\, improve communication on many levels. These classes help to improve resiliency awareness\, as well as personal and professional relationships. \n\nEmotional Intelligence is being aware of our emotions\, and to acknowledge that emotions can drive behavior that impacts others (positively and negatively). Social Intelligence is how we effectively navigate and negotiate all social relationships and situations. \n  \nRITE Tools\, like the Emotional Energy Ladder (in this photo)\, makes us aware of our emotions\, how we affect others\, and that only we have the power to make those changes. \n  \nAnger\, Hate\, and Blame\, all live at the bottom of the RITE Ladder. Although we all can feel those emotions during our day\, learning how to control them\, is key to great leadership. Bias-free engagement\, lives at the top of the Ladder with Love\, Gratitude\, Joy\, and Confidence. \n  \nA safe workplace\, free of all types of harassment starts with doing the RITE thing\, and helping others do the same. Improved communication starts here. \n\n\n\nRITE is: “The practice of using Emotional Intelligence (EI)\, Social Intelligence (SI) and the RITE Tools (RI)\, to treat ourselves and others fairly.” \n\n\n  \nRITE Professional Workplace Training\nTeaching components that reinforce your company’s values of having a professional bias-free workplace culture for all employees is our goal. Each class includes Emotional Intelligence Tools your employees learn from and use in class with each other\, and well after we are gone. \n  \nWorkplace Culture Breakdowns include:\n\nUnprofessional Behavior\nElements of Entitlement\nMental Looping and Negative Banter\nImplicit Bias and Hot Buttons\nRumors and Gossip\nUnprofessional Social Media Posting\n\n\n			\n				\n			\n			\n				\n			\n			\n				\n			\n			\n				\n			\n		\n\n\nRITE helps reinforce the company culture of treating everyone fairly\, in a professional manner. Learning to Value others\, is key to building a professional workplace\, that will be passed on for years to come. \n\n  \n  \nRITE in the Media: \n\nRITE Articles to Learn from and Share: \nDuty to Intervene during Block-out – Article Link\n6 Signs a Bully is causing your Workplace Harassment Issues Article Link\nProfessional Workplace Culture is Reducing Officer Misconduct – Article Link \n \n  \n\nDaily Agenda:\n8:00 – 11:50 am     Morning session\n12:00 – 1:00 pm     Lunch Break\n1:00 – 4:00 pm      Afternoon session \n  \n\nTraining Location\n\n\nTexas Police Headquarters\n\n\n  \nContact and Registration\n\nContact here\n\n\n  \n  \n 
URL:https://riteacademy.com/event/racial-intelligence-police-fire-doc-leaders-police-feb-7-2022-texas/
CATEGORIES:EVENTS,RITE Leadership Training
ATTACH;FMTTYPE=image/png:https://riteacademy.com/wp-content/uploads/2021/12/texas-officer-training.png
ORGANIZER;CN="RITE Academy":MAILTO:training@riteacademy.com
END:VEVENT
END:VCALENDAR